BEGIN:VCALENDAR
VERSION:2.0
PRODID:-// - ECPv4.6.8//NONSGML v1.0//EN
CALSCALE:GREGORIAN
METHOD:PUBLISH
X-WR-CALNAME:
X-ORIGINAL-URL:http://www.abdlevents.com
X-WR-CALDESC:Events for 
BEGIN:VEVENT
DTSTART;TZID=Europe/Amsterdam:20230318T153000
DTEND;TZID=Europe/Amsterdam:20230318T153000
DTSTAMP:20260420T154431
CREATED:20230130T145654Z
LAST-MODIFIED:20230130T145654Z
UID:704-1679153400-1679153400@www.abdlevents.com
SUMMARY:18. Grazer ABDL/AgePlay/Windel-Stammtisch 18.März 2023 mit kleiner Wanderung auf den SchloßbergUntitled
DESCRIPTION:Der 18. Grazer ABDL/AgePlay/Windel-Stammtisch findet am 18. März 2023 ab 15:30 Uhr statt.  \nWo? Wir treffen und um 15:30 Uhr beim Taubenbrunnen (Schloßbergplatz\, 8010 Graz) und gehen dann über die Schloßbergstiege zum Uhrturm. Danach besuchen wir The Flight das 4D Erlebnis (Dabei begleiten wir filmisch aus dem Blickwinkel einer Fliege einen Rundflug durch die Grazer Innenstadt und besuchen dabei mehr als 25 der schönsten Plätze\, Kosten 6 Euro).Wer noch nicht genug hat von der Aktion\, kann dann noch über die Schloßbergrutsche zu Tal rasen (Kostenpunkt zusammen 12 Euro)\nUm 18 Uhr geht es dann weiter in ein gutes Lokal in der Innenstadt. (wird zeitgerecht nach Anmeldung bekanntgegeben). \nEingeladen sind unter anderen:\nAdult Babies\, Diaperlover\, AgePlayer die schon aus den Pampers hinaus sind\, Windelträger*innen und -interessierte\, Littles\, Middles\, Bigs\, Babies\, Spielkinder\, Mommies/Daddies\, Erzieher\, Kindermädchen\, perverse Kindermädchen\, Haustierchen &#8211; alle\, die etwas mit dem Thema Ageplay und/oder Windeln anfangen können oder sich dafür interessieren &#8211; sind eingeladen sich bei unserem 18. Treffen in Graz mit einzubauen\, sich auszutauschen\, neue Leute kennenzulernen und sich bei uns wohl zu fühlen. \nBitte &#8220;öffentlichkeitstauglich&#8221; erscheinen/verhalten und eigene Speisen und Getränke auch selbst bezahlen. \nInfos zum Lokal gibts nach Anmeldung (per PN oder per E-Mail an wolf.und.katze.graz@gmail.com) wenige Tage vor dem Event! \nBis dann \nEure Orgas  \n
URL:http://www.abdlevents.com/index.php/event/18-grazer-abdlageplaywindel-stammtisch-18-marz-2023-mit-kleiner-wanderung-auf-den-schlosberguntitled/
LOCATION:Schloßbergplatz\, Graz\, Styria\, 8010\, Austria
ATTACH;FMTTYPE=image/jpeg:http://www.abdlevents.com/wp-content/uploads/2023/01/Logo.jpg
ORGANIZER;CN="Makao46":MAILTO:wolf.und.katze.wien@gmail.com
END:VEVENT
END:VCALENDAR