BEGIN:VCALENDAR
VERSION:2.0
PRODID:-// - ECPv4.6.8//NONSGML v1.0//EN
CALSCALE:GREGORIAN
METHOD:PUBLISH
X-WR-CALNAME:
X-ORIGINAL-URL:http://www.abdlevents.com
X-WR-CALDESC:Events for 
BEGIN:VEVENT
DTSTART;TZID=Europe/Amsterdam:20191208T160000
DTEND;TZID=Europe/Amsterdam:20191208T200000
DTSTAMP:20260419T230458
CREATED:20190513T194303Z
LAST-MODIFIED:20191031T095323Z
UID:425-1575820800-1575835200@www.abdlevents.com
SUMMARY:Amsterdam ABDL Christmas Munch & Party - Club ABDL
DESCRIPTION:Club ABDL ( formerly Club Luier) is a bi-monthly munch for all kinds of diaper lovers.  This month it&#8217;s our special Christmas party with Diaper Karaoke 🙂 \nYou can have a drink at the bar\, play cards at a table\, or lounge on the sofa. And for the little ones there’s a small play corner. There is no dresscode but we do have a ‘no nudity’ rule. That includes wearing just see-through plastic pants! Most people will wear a diaper and a T-shirt\, or a diaper and a onesie\, dungarees\, a cute dress or normal casual clothes. There is a changing area upstairs. We provide baby wipes and powder\, and we sell diapers (loose ones or a pack) at the wardrobe. \nAnd our ABDL girl Emma will be host for the party. \n
URL:http://www.abdlevents.com/index.php/event/amsterdam-abdl-munch-party-club-luier-5/
LOCATION:Nieuwezijds Kolk 25\, Amsterdam\, 1012 PV\, Netherlands
ORGANIZER;CN="Club%20Luier":MAILTO:chris@clubluier.be
END:VEVENT
END:VCALENDAR