BEGIN:VCALENDAR
VERSION:2.0
PRODID:-// - ECPv4.6.8//NONSGML v1.0//EN
CALSCALE:GREGORIAN
METHOD:PUBLISH
X-WR-CALNAME:
X-ORIGINAL-URL:http://www.abdlevents.com
X-WR-CALDESC:Events for 
BEGIN:VEVENT
DTSTART;TZID=Europe/Amsterdam:20180928T200000
DTEND;TZID=Europe/Amsterdam:20180928T233000
DTSTAMP:20260421T175116
CREATED:20180617T170519Z
LAST-MODIFIED:20180806T121150Z
UID:366-1538164800-1538177400@www.abdlevents.com
SUMMARY:Nappies For A Change : Berlin
DESCRIPTION:Diaper party for adult babies\, diaper boys and passionate bedwetters\, as well as diaper changers. DRESSCODE: Wearing diapers is mandatory! Men only. \nWindelparty für erwachsene Babys\, Windeljungs und leidenschaftliche Windelpisser sowie deren Erzieher und Wickler. DRESSCODE: Das Tragen einer Windel ist Pflicht! Nur für Männer. \n \n
URL:http://www.abdlevents.com/index.php/event/berlin-nappies-for-a-change/
LOCATION:Lankwitzer Straße 42/43\, Berlin\, Berlin\, 12107\, Germany
END:VEVENT
END:VCALENDAR