BEGIN:VCALENDAR
VERSION:2.0
PRODID:-// - ECPv4.6.8//NONSGML v1.0//EN
CALSCALE:GREGORIAN
METHOD:PUBLISH
X-WR-CALNAME:
X-ORIGINAL-URL:http://www.abdlevents.com
X-WR-CALDESC:Events for 
BEGIN:VEVENT
DTSTART;TZID=Europe/Amsterdam:20191123T160000
DTEND;TZID=Europe/Amsterdam:20191124T020000
DTSTAMP:20260421T102927
CREATED:20191009T091437Z
LAST-MODIFIED:20191009T091437Z
UID:482-1574524800-1574560800@www.abdlevents.com
SUMMARY:Graz Ageplay- und Windel-Stammtisch *woohooohoooo wir werden 10*”
DESCRIPTION:Am 23. November ist es wieder soweit: Der Grazer Stammtisch inklusive gemeinsamem Adventmarktbummel geht über die Bühne! Und es ist schon unser 10tes Treffen in Graz (das ist schon so viel wie die meisten von Euch Finger an den Händen haben wooo)!! \nLittles\, Middles\, Bigs\, Babies\, Spielkinder\, Mommies/Daddies\, Erzieher\, Kindermädchen\, perverse Kindermädchen\, Haustierchen &#8211; alle\, die etwas mit dem Thema ABDL\, AgePlay und/oder Windeln anfangen können oder sich dafür interessieren &#8211; sind eingeladen sich bei unserem 10. offiziellen Treffen in Graz mit einzubauen\, sich auszutauschen\, neue Leute kennenzulernen und sich bei uns wohl zu fühlen. \nWir treffen uns am 23.11.2019 um 16:00 Uhr in der Innenstadt von Graz\, und ziehen gemeinsam um 18:00 in ein gemütliches Lokal weiter\nMelde Dich an damit wir Dir rechtzeitig den genauen Treffpunkt mitteilen können!\nSei dabei 😉 \nBei der Veranstaltung sind Foto- sowie Filmaufnahmen und Stinker verboten! \n
URL:http://www.abdlevents.com/index.php/event/graz-ageplay-und-windel-stammtisch-woohooohoooo-wir-werden-10/
ATTACH;FMTTYPE=image/jpeg:http://www.abdlevents.com/wp-content/uploads/2019/10/tumblr_pdwqdoC4sM1xc6wqto1_1280.jpg
END:VEVENT
END:VCALENDAR