BEGIN:VCALENDAR
VERSION:2.0
PRODID:-// - ECPv4.6.8//NONSGML v1.0//EN
CALSCALE:GREGORIAN
METHOD:PUBLISH
X-WR-CALNAME:
X-ORIGINAL-URL:http://www.abdlevents.com
X-WR-CALDESC:Events for 
BEGIN:VEVENT
DTSTART;TZID=Europe/Amsterdam:20180602T200000
DTEND;TZID=Europe/Amsterdam:20180603T040000
DTSTAMP:20260421T173128
CREATED:20180216T102808Z
LAST-MODIFIED:20180216T102808Z
UID:340-1527969600-1527998400@www.abdlevents.com
SUMMARY:GummiBar\, Basel
DESCRIPTION:The GummiBar is a quiet and cozy place for fetishists in Basel. The meetings take place about 4 times a year.\nA socializing event for eating\, drinking\, chatting and getting to know each other.\nAt the GummiBar you will meet latex lovers\, ABDLs\, their caretakers\, ageplayers\, ponies and their equerries\, mistresses and their slaves\, doctors with nurses and patients\, Masters with their subs\, men who emphasize their feminine side\, sissies and of course\, everyone we have forgotten.\nDress you up\, show us your style and reflect your fetish.\nWe welcome it when you take your toys with you.\nA spacious wardrobe with mirror and dressing table is available to all visitors. For our ABDL visitors a large diaper changing table is available for use.\nIf you love hammering Bass Lines\, ear deafending techno sounds and gloomy darkrooms\, you will be disappointed with us;-)\nGreets\nFabian \n
URL:http://www.abdlevents.com/index.php/event/gummibar-basel-3/
LOCATION:Basel\, Switzerland
ATTACH;FMTTYPE=image/png:http://www.abdlevents.com/wp-content/uploads/2018/02/Bildschirmfoto-2018-02-15-um-18.46.20.png
END:VEVENT
END:VCALENDAR