BEGIN:VCALENDAR
VERSION:2.0
PRODID:-// - ECPv4.6.8//NONSGML v1.0//EN
CALSCALE:GREGORIAN
METHOD:PUBLISH
X-WR-CALNAME:
X-ORIGINAL-URL:http://www.abdlevents.com
X-WR-CALDESC:Events for 
BEGIN:VEVENT
DTSTART;TZID=Europe/Amsterdam:20180907T150000
DTEND;TZID=Europe/Amsterdam:20180909T150000
DTSTAMP:20260421T162407
CREATED:20180711T071501Z
LAST-MODIFIED:20180711T071501Z
UID:379-1536332400-1536505200@www.abdlevents.com
SUMMARY:LIDDL.me Ageplay/DL Weekend - Pizol Switzerland
DESCRIPTION:Weekend in a chalet in Eastern Switzerland for all Littles\, DLs and their companions. See website for cost information.  \n
URL:http://www.abdlevents.com/index.php/event/liddl-me-ageplaydl-weekend-pizol-switzerland/
LOCATION:Pizol\, Switzerland
END:VEVENT
END:VCALENDAR