BEGIN:VCALENDAR
VERSION:2.0
PRODID:-// - ECPv4.6.8//NONSGML v1.0//EN
CALSCALE:GREGORIAN
METHOD:PUBLISH
X-WR-CALNAME:
X-ORIGINAL-URL:http://www.abdlevents.com
X-WR-CALDESC:Events for 
BEGIN:VEVENT
DTSTART;TZID=America/Los_Angeles:20240615T100000
DTEND;TZID=America/Los_Angeles:20240615T140000
DTSTAMP:20260419T213331
CREATED:20240430T073247Z
LAST-MODIFIED:20240430T073247Z
UID:784-1718445600-1718460000@www.abdlevents.com
SUMMARY:Little by Little - Carmichael CA
DESCRIPTION:Little by Little \nLOCATION: Poly Urban Studios (5416 North Ave. Carmichael CA) \nParking is available on the street (safe neighborhood) \nDATE: Saturday June\, 15 \nTIME: 10AM &#8211; 2PM \n18+ \nCOST: $20 \nWith resident DJ: Zentchura \nDiapers\, Cuffs\, Collars\, Wands\, Whips\, Paddles\, Blindfolds\, Gags\, ETC.????encouraged????. \nWe love any Bar\, Restaurant\, and Dungeon that shows us love so lets support our local LGBTQIA+ Friendly kink club by being responsible‼️\nhttps://www.reddit.com/r/Polyurbanstudios/s/B4L7LEGbZY \nStay updated on all Littles events at our telegram channel ????:\nhttps://t.me/+gL0KrGLX_eI4MzRh \nHope to see you all there! \nFollow us on Facebook\nhttps://www.facebook.com/littlesnight \nCheck out our bare bones website:\nLittlesnight.com \nFor any and all serious matters please feel free to email us at:\nlittlesnightofficial@gmail.com \n
URL:http://www.abdlevents.com/index.php/event/little-by-little-carmichael-ca/
LOCATION:5416 North Ave.\, Carmichael\, CA\, 95608\, United States
ATTACH;FMTTYPE=image/jpeg:http://www.abdlevents.com/wp-content/uploads/2024/04/IMG_20240429_184931_517.jpg
ORGANIZER;CN="zentchura":MAILTO:littlesnightofficial@gmail.com
END:VEVENT
END:VCALENDAR