BEGIN:VCALENDAR
VERSION:2.0
PRODID:-// - ECPv4.6.8//NONSGML v1.0//EN
CALSCALE:GREGORIAN
METHOD:PUBLISH
X-WR-CALNAME:
X-ORIGINAL-URL:http://www.abdlevents.com
X-WR-CALDESC:Events for 
BEGIN:VEVENT
DTSTART;TZID=Europe/Amsterdam:20190622T140000
DTEND;TZID=Europe/Amsterdam:20190622T190000
DTSTAMP:20260421T085404
CREATED:20190513T201454Z
LAST-MODIFIED:20190513T201454Z
UID:434-1561212000-1561230000@www.abdlevents.com
SUMMARY:Little Noon AB Party
DESCRIPTION:Op 22 juni bestaat Little Noon al één jaar! (Eigenlijk 2 juni\, maar het wordt 22/6 gevierd.) En dat vraagt om een feestje!!!\nMet toeters en bellen!! En een verjaardagstaart! \nWe kunnen natuurlijk weer een hele middag spelen! Van 14u tot 19u. \nWat er te doen zal zijn? \nons ballenbad\ntekenen en kleuren\neen feestje voor iedereen\, de kleintjes en de grote mensen!!\nverjaardagstaart en kinderchampagne!!! \nVoor de ijverige littles die ons helpen met de opruim\, krijgen weer een goodiebag als beloning! \nDezelfde regels gelden weer:\nGEEN sexuele handelingen!\nGEEN BDSM!\nGeen naakt! \n
URL:http://www.abdlevents.com/index.php/event/little-noon-ab-party/
LOCATION:Wezelbaan 129\, Dienst\, 3290\, Belgium
END:VEVENT
END:VCALENDAR