BEGIN:VCALENDAR
VERSION:2.0
PRODID:-// - ECPv4.6.8//NONSGML v1.0//EN
CALSCALE:GREGORIAN
METHOD:PUBLISH
X-WR-CALNAME:
X-ORIGINAL-URL:http://www.abdlevents.com
X-WR-CALDESC:Events for 
BEGIN:VEVENT
DTSTART;TZID=Europe/London:20180120T190000
DTEND;TZID=Europe/London:20180120T233000
DTSTAMP:20260419T174857
CREATED:20180107T222658Z
LAST-MODIFIED:20180107T222658Z
UID:311-1516474800-1516491000@www.abdlevents.com
SUMMARY:London Adult Baby Club
DESCRIPTION:ABC runs on the 3rd Saturday of every month. Some months we try to do special events such as easter or christmas; see our event dates page for some more information there! \nAt ABC we try to offer guys and girls a safe place for them to just be themselves. We offer a friendly social environment\, and you guys do the rest. We have people who attend every month that will show you around\, introduce to you our members and make you feel right at home! \nWe try to keep the music upbeat\, and every month we will play a varitey of films on the big screen for you to sit down and watch! We also have a play mat with some toys and games for the babies to entertain themselves. \nFor those babies who are feeling a bit more &#8220;naughty&#8221;\, we also have a private area for you to get wild and let your hair down! \nWe have a bar available for you to purchase drinks\, and two private changing rooms for you to get padded! \nABC is a members-only club event. If you do not have membership\, you will not be allowed to enter the club. \nYou can purchase a LIFE-TIME membership at the door when you first visit the club. \nYou will need to present your membership card each time you visit to gain entry. Please do not lose your card\, as you will be charged Â£5 for a replacement. \nMembership cards come with a barcode\, which will mark you in as attended for the night. We may be offering loyalty rewards for our regular guests in the future\, so keep attending! \n\nÂ£15 &#8211; Includes Life-Time membership\, and access to the club for the night.\nÂ£10 &#8211; Entry price for returning members.\n\n  \n\n\n\n
URL:http://www.abdlevents.com/index.php/event/london-adult-baby-club/
LOCATION:37 Whardale Road\, London\, N1 9SD\, United Kingdom
END:VEVENT
END:VCALENDAR