BEGIN:VCALENDAR
VERSION:2.0
PRODID:-// - ECPv4.6.8//NONSGML v1.0//EN
CALSCALE:GREGORIAN
METHOD:PUBLISH
X-WR-CALNAME:
X-ORIGINAL-URL:http://www.abdlevents.com
X-WR-CALDESC:Events for 
BEGIN:VEVENT
DTSTART;TZID=Europe/Amsterdam:20180929T220000
DTEND;TZID=Europe/Amsterdam:20180930T020000
DTSTAMP:20260421T172959
CREATED:20180617T171731Z
LAST-MODIFIED:20180806T121229Z
UID:374-1538258400-1538272800@www.abdlevents.com
SUMMARY:Nappy Play Group : Berlin
DESCRIPTION:Das groÃŸe Ageplay Event im QuÃ¤lgeist. Lasse das Kind in dir raus oder kÃ¼mmere dich um die â€žKleinenâ€œ. Neben Windeln sind alle anderen Ageplay-bezogenen Fetische willkommen\, egal ob ABDL\, SchulmÃ¤dchen & ZÃ¶glinge\, Sissys & Dolls\, Babyfurs oder bÃ¶se Tanten. Unsere RÃ¤ume bieten alles\, was das kleine Herz begehrt: groÃŸer Laufstall mit Kinderkino\, Malecke\, Schulzimmer\, BÃ¤llebad und Schleimdusche. FÃ¼r MÃ¤nner\, Frauen und Trans. â€“ KEIN DRESSCODE â€“ FETISCH WILLKOMMEN. \n  \nThe great age play event at QuÃ¤lgeist. Let out the inner child or take care of the little ones. All other age play related fetishes besides diapers are welcome\, regardless of whether you are an ABDL\, school girl or boy\, a sissy or a doll\, a babyfur or the evil aunt. Our rooms offer everything little hearts desire: big play pen with kids cinema\, colouring table\, classroom\, ball bath and slime shower. For men\, women & trans. â€“ NO DRESSCODE â€“ FETISH WELCOME. \n \n  \n
URL:http://www.abdlevents.com/index.php/event/nappy-play-group-berlin/
LOCATION:Lankwitzer StraÃŸe 42/43\, Berlin\, Berlin\, 12107\, Germany
END:VEVENT
END:VCALENDAR