BEGIN:VCALENDAR
VERSION:2.0
PRODID:-// - ECPv4.6.8//NONSGML v1.0//EN
CALSCALE:GREGORIAN
METHOD:PUBLISH
X-WR-CALNAME:
X-ORIGINAL-URL:http://www.abdlevents.com
X-WR-CALDESC:Events for 
BEGIN:VEVENT
DTSTART;TZID=Europe/Amsterdam:20230204T140000
DTEND;TZID=Europe/Amsterdam:20230204T190000
DTSTAMP:20260420T181902
CREATED:20230202T130406Z
LAST-MODIFIED:20230202T130923Z
UID:709-1675519200-1675537200@www.abdlevents.com
SUMMARY:Nijmegen - Diapers Day
DESCRIPTION:Loop jij graag in een dikke luier\, pull-up of plastic broekje rond\, of is het iets waar je alleen nog over fantaseert? Misschien moet je hem wel dragen van je Daddy\, Mommy\, Meester of Meesteres? Of is het een onderwerp (evenals ageplay) waar je graag meer over zou willen weten? Tijdens DiapersDay mag je dragen wat jij fijn vindt. Alles is toegestaan. Sommige mensen dragen graag alleen een luier en laten hem dan vol trots zien\, terwijl andere zich veel comfortabeler voelen wanneer de luier netjes onder de kleding verborgen is. Van schattige baby kleding (neem ook vooral je knuffels mee) tot sexy BDSM outfits\, het belangrijkste is dat jij je er prettig in voelt. Ben je 18 jaar of ouder\, en wil je graag een dag met gelijkgestemden optrekken\, of nieuwe mensen leren kennen\, dan is dit je kans. \n
URL:http://www.abdlevents.com/index.php/event/nijmegen-diapers-day/
LOCATION:Sint Anthoniusplaats 15\, Nijmegen\, Gelderland\, 6511TR\, Netherlands
END:VEVENT
END:VCALENDAR