BEGIN:VCALENDAR
VERSION:2.0
PRODID:-// - ECPv4.6.8//NONSGML v1.0//EN
CALSCALE:GREGORIAN
METHOD:PUBLISH
X-WR-CALNAME:
X-ORIGINAL-URL:http://www.abdlevents.com
X-WR-CALDESC:Events for 
BEGIN:VEVENT
DTSTART;TZID=Europe/Amsterdam:20180112T200000
DTEND;TZID=Europe/Amsterdam:20180113T020000
DTSTAMP:20260419T163217
CREATED:20180104T142207Z
LAST-MODIFIED:20180104T142207Z
UID:307-1515787200-1515808800@www.abdlevents.com
SUMMARY:Pets\, littles & ABDL Playground
DESCRIPTION:Pets\, littles and Abdl playground! Het speelfeest voor pet players en age players waarbij je lekker van begin tot eind in je eigen little space of pet space kan blijven. \nZorg wel dat je baasje\, begeleider\, daddy of mommy meegaat\, dan kunnen wij wanneer het nodig is daarmee overleggen. Er is meer dan voldoende speelruimte voor iedereen\, en voor elke invulling en tint die er te bedenken is. \nDrempelvrees of vraag je je af hoe zo&#8217;n avond gaat? Limbonees is host op deze avond\, dus stuur hem gerust een berichtje! \nEr zijn speeltjes voor pets en littles\, drinkbakjes en voerbakjes\, drinkbekers et cetera maar neem vooral je eigen favoriete speeltjes mee.\nStiekeme stoute handelingen zijn toegestaan\, maar als jouw kleintje daar te gevoelig voor blijf je lekker in de speelruimte beneden of ga je naar de grote slaapkamer boven\, waar seks niet mag.\nTevens kan je bij ons luiers kopen voor 1 euro per stuk of 2 inleggers ook voor 1 euro. \nAanmelden is zoals (bijna) altijd niet verplicht\, maar jezelf op going zetten waarderen we enorm! En laat vooral je vrienden weten dat je erbij bent\, plaats een statusupdate zodat we het samen NOG leuker maken! \nOp deze avond is het appartement nog beschikbaar! Wil je overnachten? Klik hier! \nNog geen lid? Hou rekening met inschrijving aan de deur en 5 euro lidmaatschapskosten. \nPets\, Little & ABDL espace de jeu \nUn espace de jeu pour les pet players et les ABDL où vous pouvez agréablement rester du début à la fin dans un espace enfant ou espace animal. \nVous pouvez venir avec votre maitre\, ou votre papa ou maman. Il y a beaucoup d&#8217;espace jeu disponible pour tout le monde et beaucoup de possibilités quelle que soit votre imagination. \nIl y a des jouets pour animaux et des gamelles d&#8217;eau et de nourriture pour chiens. \nIl y a des jouets pour bébés et petits enfants\, des biberons\, etc. N&#8217;hésitez pas à apporter votre matériel et vos jeux préférés. \nDans certaines pièces\, les enfants pas sages peuvent être punis par fessées ou autre sévices. Si votre petit est trop sensible\, il peut rester dans la salle de jeu en bas ou dans la grande chambre à coucher en haut : là le sexe est interdit. \n
URL:http://www.abdlevents.com/index.php/event/pets-littles-abdl-playground/
LOCATION:heppensesteenweg 78\, Limburg\, Belgium
ATTACH;FMTTYPE=image/jpeg:http://www.abdlevents.com/wp-content/uploads/2018/01/petsandlittle-1.jpg
END:VEVENT
END:VCALENDAR