BEGIN:VCALENDAR
VERSION:2.0
PRODID:-// - ECPv4.6.8//NONSGML v1.0//EN
CALSCALE:GREGORIAN
METHOD:PUBLISH
X-WR-CALNAME:
X-ORIGINAL-URL:http://www.abdlevents.com
X-WR-CALDESC:Events for 
BEGIN:VEVENT
DTSTART;TZID=Europe/Amsterdam:20180929T180000
DTEND;TZID=Europe/Amsterdam:20180929T220000
DTSTAMP:20260421T184921
CREATED:20180617T171304Z
LAST-MODIFIED:20180806T121413Z
UID:372-1538244000-1538258400@www.abdlevents.com
SUMMARY:Playtime : Berlin
DESCRIPTION:Spaß und Spiel für groß und klein am Nachmittag. Wir laden vor der großen Party am Abend zum Spielen ein. Genügend Zeit also\, um sich im Bällebad auszutoben\, Geschichten vorzulesen\, auszumalen und sich allem hinzugeben\, was sonst noch Spaß macht. Der Windelstammtisch findet ebenfalls bei uns statt. \nKEIN DRESSCODE – FETISCH WILLKOMMEN \nThe fun and games afternoon for Bigs and Littles. Quality playtime before the big party in the evening: exhaust yourself in the ball bath\, read out stories\, colour some pictures and enjoy loads of other funny things. The Diaper Munch will take place at Quälgeist\, too.\nNO DRESSCODE – FETISH WELCOME \n \n
URL:http://www.abdlevents.com/index.php/event/playtime-berlin/
LOCATION:Lankwitzer Straße 42/43\, Berlin\, Berlin\, 12107\, Germany
END:VEVENT
END:VCALENDAR