BEGIN:VCALENDAR
VERSION:2.0
PRODID:-// - ECPv4.6.8//NONSGML v1.0//EN
CALSCALE:GREGORIAN
METHOD:PUBLISH
X-WR-CALNAME:
X-ORIGINAL-URL:http://www.abdlevents.com
X-WR-CALDESC:Events for 
BEGIN:VEVENT
DTSTART;TZID=Europe/Amsterdam:20230506T150000
DTEND;TZID=Europe/Amsterdam:20230506T210000
DTSTAMP:20260420T131833
CREATED:20230407T225902Z
LAST-MODIFIED:20230407T225922Z
UID:723-1683385200-1683406800@www.abdlevents.com
SUMMARY:Special: Wolf und Katze in Wien: Der Windel/Abdl und AgePlay Spielnachmittag
DESCRIPTION:Wir treffen uns zur fünften Ausgabe von Wolf und Katze in Wien diesmal zum Spielen: \nZur Auswahl steht diesmal: 	 \n1) Bowling mit anschließenden (frühen) Abendessen im Kugeltanz im Prater\n2) Minigolf – bei Schönwetter beim Museumsquartier bei Schlechtwetter im 4D Minigolf im 22ten \nAbstimmung ist nur in den Telegramgruppen möglich. \nTermin: 06.05.2023 ab 15 Uhr \nDresscode: 	Vanilla (alltagstaugliche Kleidung\, so wie du in Wien auf der Straße gesehen werden willst) \nEingeladen sind unter anderen:\nAdult Babies\, Diaperlover\, AgePlayer die schon aus den Pampers hinaus sind\, Windelträger*innen und -interessierte\, Littles\, Middles\, Bigs\, Babies\, Spielkinder\, Mommies/Daddies\, Erzieher\, Kindermädchen\, perverse Kindermädchen\, Haustierchen &#8211; alle\, die etwas mit dem Thema Ageplay und/oder Windeln anfangen können oder sich dafür interessieren &#8211; sind eingeladen sich bei unserem Spielnachmittag in Wien wohl zu fühlen und neue Leute kennenzulernen. \nBitte bezahlt Eure Speisen und Getränke vor dem Heimgehen. Danke! \nWeitere Infos nach Anmeldung (per E-Mail an wolf.und.katze.wien@gmail.com\, oder PN auf Fetlife oder Romeo) wenige Tage vor dem Event! \nBis dann&#8230; \nEure Orgas  \n
URL:http://www.abdlevents.com/index.php/event/special-wolf-und-katze-in-wien-der-windelabdl-und-ageplay-spielnachmittaguntitled/
ATTACH;FMTTYPE=image/jpeg:http://www.abdlevents.com/wp-content/uploads/2023/04/Logo.jpg
ORGANIZER;CN="Makao46":MAILTO:wolf.und.katze.wien@gmail.com
END:VEVENT
END:VCALENDAR