BEGIN:VCALENDAR
VERSION:2.0
PRODID:-// - ECPv4.6.8//NONSGML v1.0//EN
CALSCALE:GREGORIAN
METHOD:PUBLISH
X-WR-CALNAME:
X-ORIGINAL-URL:http://www.abdlevents.com
X-WR-CALDESC:Events for 
BEGIN:VEVENT
DTSTART;TZID=Europe/Amsterdam:20180930T160000
DTEND;TZID=Europe/Amsterdam:20180930T230000
DTSTAMP:20260421T160856
CREATED:20180617T171953Z
LAST-MODIFIED:20180806T121303Z
UID:376-1538323200-1538348400@www.abdlevents.com
SUMMARY:Sunday School : Berlin
DESCRIPTION:Ageplay-Chillout und Disziplinierung von ungezogenen Mädchen und Jungs. Während es sich die braven „Littles“ frisch gewickelt im Keller bei Cartoons und Kuchen gemütlich machen\, können alle\, die nicht brav waren\, in unseren Räumlichkeiten bestraft werden. Und da man am Sonntag immer nur die besten Sachen anzieht\, freuen wir uns auf Knaben in Krachledernen und auf männliche wie weibliche Wesen in Sissy-Kleidchen und allem anderen\, was der Fetischkleiderschrank in Sachen Ageplay zu bieten hat. – KEIN DRESSCODE – FETISCH WILLKOMMEN. \nAge play chillout as well as disciplining of naughty kids.\nWhile well-behaved and freshly changed “Littles” enjoy cartoons and cake in the cellar\, the rest of our rooms is open for punishment. And since it’s Sunday we’ll all dress up and wear our best knickerbockers\, sissy dresses and anything else the age play wardrobe has to offer. NO DRESSCODE – FETISH WELCOME. \n \n \n
URL:http://www.abdlevents.com/index.php/event/sunday-school-berlin/
LOCATION:Lankwitzer Straße 42/43\, Berlin\, Berlin\, 12107\, Germany
END:VEVENT
END:VCALENDAR