BEGIN:VCALENDAR
VERSION:2.0
PRODID:-// - ECPv4.6.8//NONSGML v1.0//EN
CALSCALE:GREGORIAN
METHOD:PUBLISH
X-WR-CALNAME:
X-ORIGINAL-URL:http://www.abdlevents.com
X-WR-CALDESC:Events for 
BEGIN:VEVENT
DTSTART;TZID=America/Los_Angeles:20180907T080000
DTEND;TZID=America/Los_Angeles:20180909T170000
DTSTAMP:20260421T145430
CREATED:20180711T072954Z
LAST-MODIFIED:20180711T073514Z
UID:384-1536307200-1536512400@www.abdlevents.com
SUMMARY:West Coast Jungle Gym Ageplay Conference - San Diego USA
DESCRIPTION:The West Coast Jungle Gym will be a weekend event for those that wish to come together with other Age Players regardless of gender\, identity\, race\, age or ability. \nWe wish to provide a safe place for age players to express themselves\, learn\, and share their ideas\, thoughts\, dreams and do all the things while supporting each other and the groups mission of promoting awareness of Age Play to the Kink and Leather communities through education and awareness. \nThe weekend long conference will include:\nâ€¢ North America Lil&#8217;s Contest\nâ€¢ Pool Party\nâ€¢ Old Fashioned BBQ\nâ€¢ DiaperPalooza 3\nâ€¢ Footie PJ Movie Party\nâ€¢ Nursery/ JungleGym Playroom\nâ€¢ Dark Age Play Dungeon\nâ€¢ Spirit Days\nâ€¢ Stuffy Adoption\nâ€¢ Fun Arts n Crafts\, Games and Activities\nâ€¢ Lots and LOTS and LOTS of Workshops to choose from.\nâ€¢ Specialised Vendors that cater to ALL little type folks across the umbrella\nâ€¢ Plus lots lots more!!! \nSee website for ticket prices and hotel information. \n \n  \n
URL:http://www.abdlevents.com/index.php/event/west-coast-jungle-gym-ageplay-conference-san-diego-usa/
LOCATION:United States
END:VEVENT
END:VCALENDAR