BEGIN:VCALENDAR
VERSION:2.0
PRODID:-// - ECPv4.6.8//NONSGML v1.0//EN
CALSCALE:GREGORIAN
METHOD:PUBLISH
X-WR-CALNAME:
X-ORIGINAL-URL:http://www.abdlevents.com
X-WR-CALDESC:Events for 
BEGIN:VEVENT
DTSTART;TZID=Europe/Amsterdam:20240413T143000
DTEND;TZID=Europe/Amsterdam:20240413T233000
DTSTAMP:20260421T091117
CREATED:20240306T170911Z
LAST-MODIFIED:20240306T170911Z
UID:774-1713018600-1713051000@www.abdlevents.com
SUMMARY:Wolf und Katze in Wien: Der Windel/Abdl und AgePlay Bowlingnachmittag und Jubiläumsstammtisch
DESCRIPTION:Wir treffen uns zur zehnten Ausgabe von Wolf und Katze in Wien diesmal gehen wir vor dem Stammtisch zum Bowling \nTreffpunkt: Kugeltanz im Prater\, 13. April 2024 ab 14:30 \nCheck-In: ab 14:45 \nDresscode fürs Minigolf: Vanilla (alltagstaugliche Kleidung\, so wie du in Wien auf der Straße gesehen werden willst) \nKostenbeitrag fürs Bowling: Rund 10 Euro \nNach dem Spiel fahren wir in unser Stammtischlokal wo der Stammtisch ab 18 Uhr stattfinden wird. \nDresscode: Vanilla PLUS (alltagstaugliche Kleidung und oder Strampler (Jumpsuit\, Superman\, gerne auch Sissy\, etc )\, du darfst auch dein Fläschchen oder Schnuller\, sowie dein Kuscheltier mitbringen. \nEingeladen sind unter anderen:\nAdult Babies\, Diaperlover\, AgePlayer die schon aus den Pampers hinaus sind\, Windelträger*innen und -interessierte\, Littles\, Middles\, Bigs\, Babies\, Spielkinder\, Mommies/Daddies\, Erzieher\, Kindermädchen\, perverse Kindermädchen\, Haustierchen &#8211; alle\, die etwas mit dem Thema Ageplay und/oder Windeln anfangen können oder sich dafür interessieren &#8211; sind eingeladen sich bei unserem Spielnachmittag in Wien wohl zu fühlen und neue Leute kennenzulernen. \nBitte bezahlt Eure Speisen und Getränke vor dem Heimgehen. Danke! \nBitte um Anmeldung (per E-Mail an wolf.und.katze.wien@gmail.com\, oder PN auf Fetlife oder Romeo bzw in der Telegramgruppen)! \nBis dann&#8230; \nEure Orgas \n
URL:http://www.abdlevents.com/index.php/event/wolf-und-katze-in-wien-der-windelabdl-und-ageplay-bowlingnachmittag-und-jubilaumsstammtisch/
LOCATION:Hauptallee 124\, Wien\, Wien\, 1020\, Austria
ATTACH;FMTTYPE=image/jpeg:http://www.abdlevents.com/wp-content/uploads/2024/03/Gestern-Abend.jpg
ORGANIZER;CN="Makao46":MAILTO:wolf.und.katze.wien@gmail.com
END:VEVENT
END:VCALENDAR