BEGIN:VCALENDAR
VERSION:2.0
PRODID:-// - ECPv4.6.8//NONSGML v1.0//EN
CALSCALE:GREGORIAN
METHOD:PUBLISH
X-WR-CALNAME:
X-ORIGINAL-URL:http://www.abdlevents.com
X-WR-CALDESC:Events for 
BEGIN:VEVENT
DTSTART;TZID=America/Los_Angeles:20191108T190000
DTEND;TZID=America/Los_Angeles:20191111T100000
DTSTAMP:20260422T191736
CREATED:20190927T222208Z
LAST-MODIFIED:20190927T222621Z
UID:475-1573239600-1573466400@www.abdlevents.com
SUMMARY:Palm Springs USA - Diapered In The Desert
DESCRIPTION: \n  \n  \n  \n  \nDiapered in the Desert is a truly unique experience for men (including trans men) who identify as daddies\, bois\, adult babies\, diaper lovers\, littles\, bigs\, and everything in-between. The weekend is casual with a light and open schedule\, which is very different from a convention type event. The social environment is friendly and playful. Youâ€™ll have ample opportunities to meet and connect with all the attendees throughout the weekend. \n
URL:http://www.abdlevents.com/index.php/event/palm-springs-usa-diapered-in-the-desert/
END:VEVENT
END:VCALENDAR